BEGIN:VCALENDAR
VERSION:2.0
PRODID:-//Tukios.com/
BEGIN:VEVENT
UID:1696b23f-0496-4f00-b2c3-ae4cc127ab87@www.kraw-kornackfuneralhome.com
DTSTAMP:20260423T223451Z
DTSTART:20260426T170000Z
DTEND:20260426T200000Z
SUMMARY:Visitation
DESCRIPTION:
URL:https://www.kraw-kornackfuneralhome.com/obituaries/flora-buonora
LOCATION: 1248 Washington St  Norwood MA 02062
GEO:42.1746212;-71.2074343
END:VEVENT
END:VCALENDAR