BEGIN:VCALENDAR
VERSION:2.0
PRODID:-//Tukios.com/
BEGIN:VEVENT
UID:35a825fa-883b-4c0c-abb0-862ae9dce3ee@www.kraw-kornackfuneralhome.com
DTSTAMP:20260423T223452Z
DTSTART:20260427T150000Z
DTEND:20260427T160000Z
SUMMARY:Funeral Mass
DESCRIPTION:
URL:https://www.kraw-kornackfuneralhome.com/obituaries/flora-buonora
LOCATION: 547 Washington Street  Norwood MA 02062
GEO:42.1953658;-71.2007652
END:VEVENT
END:VCALENDAR